BEGIN:VCALENDAR
VERSION:2.0
PRODID:-//jEvents 2.0 for Joomla//EN
CALSCALE:GREGORIAN
METHOD:PUBLISH
BEGIN:VEVENT
UID:e8b2a6297ce3b0170f28f8b18ff31e34
CATEGORIES:Memo
SUMMARY:Political Action Officers Meeting
LOCATION:Ritz Hotel at Garden Oasis - Porras Street, Bo. Obrero, Davao City, Davao d
 el Sur
DESCRIPTION;ENCODING=QUOTED-PRINTABLE:http://www.ritzhoteldavao.com/
CONTACT:April de la Cruz
DTSTAMP:20260424T173201Z
DTSTART:20160603T070000Z
DTEND:20160604T170000Z
SEQUENCE:0
TRANSP:OPAQUE
END:VEVENT
END:VCALENDAR